BEGIN:VCALENDAR
VERSION:2.0
PRODID:-//Deutsch-Namibische Gesellschaft e.V. (DNG)  - ECPv6.15.20//NONSGML v1.0//EN
CALSCALE:GREGORIAN
METHOD:PUBLISH
X-ORIGINAL-URL:https://www.dngev.de
X-WR-CALDESC:Veranstaltungen für Deutsch-Namibische Gesellschaft e.V. (DNG) 
REFRESH-INTERVAL;VALUE=DURATION:PT1H
X-Robots-Tag:noindex
X-PUBLISHED-TTL:PT1H
BEGIN:VTIMEZONE
TZID:Europe/Berlin
BEGIN:DAYLIGHT
TZOFFSETFROM:+0100
TZOFFSETTO:+0200
TZNAME:CEST
DTSTART:20240331T010000
END:DAYLIGHT
BEGIN:STANDARD
TZOFFSETFROM:+0200
TZOFFSETTO:+0100
TZNAME:CET
DTSTART:20241027T010000
END:STANDARD
BEGIN:DAYLIGHT
TZOFFSETFROM:+0100
TZOFFSETTO:+0200
TZNAME:CEST
DTSTART:20250330T010000
END:DAYLIGHT
BEGIN:STANDARD
TZOFFSETFROM:+0200
TZOFFSETTO:+0100
TZNAME:CET
DTSTART:20251026T010000
END:STANDARD
BEGIN:DAYLIGHT
TZOFFSETFROM:+0100
TZOFFSETTO:+0200
TZNAME:CEST
DTSTART:20260329T010000
END:DAYLIGHT
BEGIN:STANDARD
TZOFFSETFROM:+0200
TZOFFSETTO:+0100
TZNAME:CET
DTSTART:20261025T010000
END:STANDARD
END:VTIMEZONE
BEGIN:VEVENT
DTSTART;TZID=Europe/Berlin:20250803T160000
DTEND;TZID=Europe/Berlin:20250803T180000
DTSTAMP:20260423T115936
CREATED:20250626T050946Z
LAST-MODIFIED:20250626T050946Z
UID:2572-1754236800-1754244000@www.dngev.de
SUMMARY:Ausstellung: Namibia und Deutschland
DESCRIPTION:Namibia und Deutschland: Zusammen sind wir stark.\nAusstellung der Deutsch-Namibischen Gesellschaft \nWeitere Informationen finden Sie hier \nNamibia und Deutschland
URL:https://www.dngev.de/veranstaltung/ausstellung-namibia-und-deutschland-5
LOCATION:Cultura\, Torfweg 53\, Rietberg\, 33397
ATTACH;FMTTYPE=image/png:https://www.dngev.de/wp-content/uploads/2025/06/Screenshot-2025-06-24-at-10.25.32-e1750753643530.png
ORGANIZER;CN="Martin Hillemeyer":MAILTO:martin.hillemeyer@t-online.de
END:VEVENT
BEGIN:VEVENT
DTSTART;VALUE=DATE:20250808
DTEND;VALUE=DATE:20250810
DTSTAMP:20260423T115936
CREATED:20250308T125055Z
LAST-MODIFIED:20250308T133238Z
UID:2125-1754611200-1754783999@www.dngev.de
SUMMARY:Treffen der Damara in Europa
DESCRIPTION:Das nächste Treffen der Damara in Europa findet vom 08. – 09. August 2025 in 33397 Rietberg statt.\nAnmeldung wird bis Ende April 2025 unter elizabethdomingo@gmail.com erbeten.
URL:https://www.dngev.de/veranstaltung/treffen-der-damara-in-europa
LOCATION:Rietberg\, 33397
END:VEVENT
BEGIN:VEVENT
DTSTART;TZID=Europe/Berlin:20250808T160000
DTEND;TZID=Europe/Berlin:20250808T200000
DTSTAMP:20260423T115936
CREATED:20250626T051504Z
LAST-MODIFIED:20250626T051504Z
UID:2576-1754668800-1754683200@www.dngev.de
SUMMARY:Ausstellung: Namibia und Deutschland
DESCRIPTION:Namibia und Deutschland: Zusammen sind wir stark.\nAusstellung der Deutsch-Namibischen Gesellschaft \nWeitere Informationen finden Sie hier \nNamibia und Deutschland
URL:https://www.dngev.de/veranstaltung/ausstellung-namibia-und-deutschland-6
LOCATION:Cultura\, Torfweg 53\, Rietberg\, 33397
ATTACH;FMTTYPE=image/png:https://www.dngev.de/wp-content/uploads/2025/06/Screenshot-2025-06-24-at-10.25.32-e1750753643530.png
ORGANIZER;CN="Martin Hillemeyer":MAILTO:martin.hillemeyer@t-online.de
END:VEVENT
BEGIN:VEVENT
DTSTART;TZID=Europe/Berlin:20250810T090000
DTEND;TZID=Europe/Berlin:20250810T140000
DTSTAMP:20260423T115936
CREATED:20250626T051347Z
LAST-MODIFIED:20250626T051347Z
UID:2578-1754816400-1754834400@www.dngev.de
SUMMARY:Ausstellung: Namibia und Deutschland
DESCRIPTION:Namibia und Deutschland: Zusammen sind wir stark.\nAusstellung der Deutsch-Namibischen Gesellschaft \nWeitere Informationen finden Sie hier \nNamibia und Deutschland
URL:https://www.dngev.de/veranstaltung/ausstellung-namibia-und-deutschland-7
LOCATION:Cultura\, Torfweg 53\, Rietberg\, 33397
ATTACH;FMTTYPE=image/png:https://www.dngev.de/wp-content/uploads/2025/06/Screenshot-2025-06-24-at-10.25.32-e1750753643530.png
ORGANIZER;CN="Martin Hillemeyer":MAILTO:martin.hillemeyer@t-online.de
END:VEVENT
END:VCALENDAR