BEGIN:VCALENDAR
VERSION:2.0
PRODID:-//Deutsch-Namibische Gesellschaft e.V. (DNG)  - ECPv6.15.20//NONSGML v1.0//EN
CALSCALE:GREGORIAN
METHOD:PUBLISH
X-ORIGINAL-URL:https://www.dngev.de
X-WR-CALDESC:Veranstaltungen für Deutsch-Namibische Gesellschaft e.V. (DNG) 
REFRESH-INTERVAL;VALUE=DURATION:PT1H
X-Robots-Tag:noindex
X-PUBLISHED-TTL:PT1H
BEGIN:VTIMEZONE
TZID:Europe/Berlin
BEGIN:DAYLIGHT
TZOFFSETFROM:+0100
TZOFFSETTO:+0200
TZNAME:CEST
DTSTART:20240331T010000
END:DAYLIGHT
BEGIN:STANDARD
TZOFFSETFROM:+0200
TZOFFSETTO:+0100
TZNAME:CET
DTSTART:20241027T010000
END:STANDARD
BEGIN:DAYLIGHT
TZOFFSETFROM:+0100
TZOFFSETTO:+0200
TZNAME:CEST
DTSTART:20250330T010000
END:DAYLIGHT
BEGIN:STANDARD
TZOFFSETFROM:+0200
TZOFFSETTO:+0100
TZNAME:CET
DTSTART:20251026T010000
END:STANDARD
BEGIN:DAYLIGHT
TZOFFSETFROM:+0100
TZOFFSETTO:+0200
TZNAME:CEST
DTSTART:20260329T010000
END:DAYLIGHT
BEGIN:STANDARD
TZOFFSETFROM:+0200
TZOFFSETTO:+0100
TZNAME:CET
DTSTART:20261025T010000
END:STANDARD
END:VTIMEZONE
BEGIN:VEVENT
DTSTART;TZID=Europe/Berlin:20250605T190000
DTEND;TZID=Europe/Berlin:20250605T233000
DTSTAMP:20260423T144933
CREATED:20250528T044807Z
LAST-MODIFIED:20250528T045053Z
UID:2453-1749150000-1749166200@www.dngev.de
SUMMARY:﻿﻿﻿﻿﻿Klassik im Leinetal
DESCRIPTION:In Zusammenarbeit mit dem Honorarkonsulat der Republik Namibia lädt das Leinetal Seniorenpflegeheim in Laatzen herzlich zu einem Abend mit klassischer Musik ein. \nAm Donnertsag\, den 05. Juni.2025\, ab 19:00 Uhr\, \nwird der Tenor Galilei Uajenenisa Njembo aus Namibia mit einem Potpourri aus Werken von Mozart\, Händel\, Tschaikowsky und anderen den großen Saal zum Klingen bringen. \nAm Flügel begleitet ihn dabei der Pianist Simonas Poska aus Hannover. \nIn der Pause wird es die Möglichkeit geben\, Kunsthandwerk aus Namibia zu erwerben. \nDer Eintritt ist frei\, für eine Spende bedanken sich allerdings die Künstler nach dem Konzert. \nDas Team vom Leinetal freut sich auf viele Gäste und einen kulturellen Höhepunkt.
URL:https://www.dngev.de/veranstaltung/klassik-im-leinetal
LOCATION:Leintetal Seniorenpflegeheim\, Rethener Kirchweg 10\, Laatzen\, 30880
END:VEVENT
BEGIN:VEVENT
DTSTART;TZID=Europe/Berlin:20250621T190000
DTEND;TZID=Europe/Berlin:20250621T235900
DTSTAMP:20260423T144933
CREATED:20250613T004602Z
LAST-MODIFIED:20250613T004926Z
UID:2464-1750532400-1750550340@www.dngev.de
SUMMARY:AFRICAN VOCALS
DESCRIPTION:Liebe Namibia-Freundinnen und –Freunde\,\nliebe DNG-Mitglieder\, \ndie namibische a cappella-Gruppe AFRICAN VOCALS ist wieder auf Deutschland-Tour.\nWir möchten Sie auf folgende Konzerte aufmerksam machen: \n21. Juni 2025 – Pfungstadt (St. Antonius) – 19:00 Uhr \n 1. Juli 2025 – Nidderau (Pfarrkirche) – 19:00 Uhr\n2. Juli 2025 – Frankfurt (Bethanienkirche) – 19:00 Uhr\n3. Juli 2025 – Frankfurt (Liebfrauenkirche) – 19:30 Uhr\n4. Juli 2025 – Bad Nauheim (Trinkkuranlage) – 19:30 Uhr \nLassen Sie sich die mitreißenden Rhythmen nicht entgehen.
URL:https://www.dngev.de/veranstaltung/african-vocals
LOCATION:Pfungstadt (St. Antonius)
ATTACH;FMTTYPE=image/jpeg:https://www.dngev.de/wp-content/uploads/2025/06/image006.jpg
END:VEVENT
END:VCALENDAR